BEGIN:VCALENDAR
VERSION:2.0
PRODID:-//hacksw/handcal//NONSGML v1.0//EN
BEGIN:VEVENT
SUMMARY:tournoi a theme fin de coup
UID:f920d02f-d01d-474e-ba1b-365c0923f28e
DTSTART:20260331T120000Z
DTEND:20260331T160000Z
LOCATION:Localisation   
CATEGORIES:Entrainement
STATUS:
URL;VALUE=URI:https://bcmontois.club.ffbridge.fr/evenements/2026/03/31/tournoi-a-theme-fin-de-coup-2424404
END:VEVENT
END:VCALENDAR
