BEGIN:VCALENDAR
VERSION:2.0
PRODID:-//hacksw/handcal//NONSGML v1.0//EN
BEGIN:VEVENT
SUMMARY:Arbitrage par M. Duluc (rattrapage)
UID:033c57f5-d2e8-4169-a788-748d24bf4024
DTSTART:20260409T080000Z
DTEND:20260409T100000Z
LOCATION:Localisation   
CATEGORIES:Formation
STATUS:
URL;VALUE=URI:https://bcmontois.club.ffbridge.fr/evenements/2026/04/09/arbitrage-par-m-duluc-rattrapage-2438288
END:VEVENT
END:VCALENDAR
