BEGIN:VCALENDAR
VERSION:2.0
PRODID:-//hacksw/handcal//NONSGML v1.0//EN
BEGIN:VEVENT
SUMMARY:Reunion CA 10h45
UID:91385667-7d6d-41ea-80dd-7808abf579e4
DTSTART:20260616T084500Z
DTEND:20260616T100000Z
LOCATION:Localisation   
CATEGORIES:Administratif
STATUS:
URL;VALUE=URI:https://bcmontois.club.ffbridge.fr/evenements/2026/06/16/reunion-ca-10h45-2438287
END:VEVENT
END:VCALENDAR
